BEGIN:VCALENDAR
VERSION:2.0
PRODID:-//Clean Lakes Alliance - ECPv6.15.20//NONSGML v1.0//EN
CALSCALE:GREGORIAN
METHOD:PUBLISH
X-WR-CALNAME:Clean Lakes Alliance
X-ORIGINAL-URL:https://www.cleanlakesalliance.org
X-WR-CALDESC:Events for Clean Lakes Alliance
REFRESH-INTERVAL;VALUE=DURATION:PT1H
X-Robots-Tag:noindex
X-PUBLISHED-TTL:PT1H
BEGIN:VTIMEZONE
TZID:America/Chicago
BEGIN:DAYLIGHT
TZOFFSETFROM:-0600
TZOFFSETTO:-0500
TZNAME:CDT
DTSTART:20250309T080000
END:DAYLIGHT
BEGIN:STANDARD
TZOFFSETFROM:-0500
TZOFFSETTO:-0600
TZNAME:CST
DTSTART:20251102T070000
END:STANDARD
BEGIN:DAYLIGHT
TZOFFSETFROM:-0600
TZOFFSETTO:-0500
TZNAME:CDT
DTSTART:20260308T080000
END:DAYLIGHT
BEGIN:STANDARD
TZOFFSETFROM:-0500
TZOFFSETTO:-0600
TZNAME:CST
DTSTART:20261101T070000
END:STANDARD
BEGIN:DAYLIGHT
TZOFFSETFROM:-0600
TZOFFSETTO:-0500
TZNAME:CDT
DTSTART:20270314T080000
END:DAYLIGHT
BEGIN:STANDARD
TZOFFSETFROM:-0500
TZOFFSETTO:-0600
TZNAME:CST
DTSTART:20271107T070000
END:STANDARD
END:VTIMEZONE
BEGIN:VEVENT
DTSTART;TZID=America/Chicago:20260513T073000
DTEND;TZID=America/Chicago:20260513T093000
DTSTAMP:20260421T064954
CREATED:20250818T194518Z
LAST-MODIFIED:20260305T225910Z
UID:10000548-1778657400-1778664600@www.cleanlakesalliance.org
SUMMARY:Clean Lakes 101: State of the Lakes
DESCRIPTION:Clean Lakes 101 \n\n\n\nPlease join us for our State of the Lakes\, on Wednesday\, May 13\, at The Edgewater. This year\, we’re excited to feature the State of the Lakes — an annual health synopsis of Greater Madison’s five Yahara lakes (Mendota\, Monona\, Wingra\, Waubesa\, and Kegonsa). \n\n\n\n\nREGISTER – STATE OF THE LAKES EVENT\n\n\n\n\n\n\n\n\n\n\n\n\n\n\n\n\nEvent details\n\n\n\nSave the date: Wednesday\, May 13\, 2026Time: 7:30 – 8 a.m. coffee and conversation\, 8 – 9:30 a.m. continental breakfast and programLocation: The Edgewater (1001 Wisconsin Ave.\, Madison) \n\n\n\nAbout this event\n\n\n\nPlease join us for our State of the Lakes\, on Wednesday\, May 13\, 2026! This year\, we’re excited to feature the State of the Lakes. The report is an annual health synopsis of Greater Madison’s five Yahara lakes (Mendota\, Monona\, Wingra\, Waubesa\, and Kegonsa). Focusing on major drivers and indicators of water quality\, the analysis summarizes lake and watershed health factors\, trends\, and the likely causes of observed conditions. \n\n\n\nWe will continue the tradition of bringing together our watershed’s premier scientists\, business and organizational leaders\, heads of government\, and officials from the Ho-Chunk Nation to learn more about the lakes (originally known as Teejop) and new opportunities for continued collaboration and progress.  \n\n\n\nClean Lakes Alliance and its fellow Renew the Blue Council members will highlight the latest science and Renew the Blue stakeholder guidance that will direct future cleanup actions. \n\n\n\nSponsor a table\n\n\n\nTable sponsors receive name recognition on promotional materials\, email marketing\, and the Clean Lakes Alliance website. A table seats 8 people. Please contact Executive Director\, James Tye\, to sponsor a table at 608-255-1000 or james@cleanlakesalliance.org. Learn about all 2026 sponsorship opportunities. \n\n\n\nEvent parking\n\n\n\nThis event will be held at The Edgewater (1001 Wisconsin Place\, Madison\, WI 53703). Event parking will be available at The Edgewater. Parking spots fill up quickly and may be limited depending on capacity. \n\n\n\n2026 sponsors
URL:https://www.cleanlakesalliance.org/event/clean-lakes-101-may-2026/
LOCATION:The Edgewater\, 1001 Wisconsin Place\, Madison\, WI\, 53703\, United States
CATEGORIES:Clean Lakes 101,Community Events,Educational Events
ATTACH;FMTTYPE=image/png:https://www.cleanlakesalliance.org/wp-content/uploads/2026/02/2026_State-of-the-Lakes_header-scaled.png
GEO:43.0792762;-89.3902786
X-APPLE-STRUCTURED-LOCATION;VALUE=URI;X-ADDRESS=The Edgewater 1001 Wisconsin Place Madison WI 53703 United States;X-APPLE-RADIUS=500;X-TITLE=1001 Wisconsin Place:geo:-89.3902786,43.0792762
END:VEVENT
END:VCALENDAR