BEGIN:VCALENDAR
VERSION:2.0
PRODID:-//Clean Lakes Alliance - ECPv6.15.20//NONSGML v1.0//EN
CALSCALE:GREGORIAN
METHOD:PUBLISH
X-ORIGINAL-URL:https://www.cleanlakesalliance.org
X-WR-CALDESC:Events for Clean Lakes Alliance
REFRESH-INTERVAL;VALUE=DURATION:PT1H
X-Robots-Tag:noindex
X-PUBLISHED-TTL:PT1H
BEGIN:VTIMEZONE
TZID:America/Chicago
BEGIN:DAYLIGHT
TZOFFSETFROM:-0600
TZOFFSETTO:-0500
TZNAME:CDT
DTSTART:20210314T080000
END:DAYLIGHT
BEGIN:STANDARD
TZOFFSETFROM:-0500
TZOFFSETTO:-0600
TZNAME:CST
DTSTART:20211107T070000
END:STANDARD
BEGIN:DAYLIGHT
TZOFFSETFROM:-0600
TZOFFSETTO:-0500
TZNAME:CDT
DTSTART:20220313T080000
END:DAYLIGHT
BEGIN:STANDARD
TZOFFSETFROM:-0500
TZOFFSETTO:-0600
TZNAME:CST
DTSTART:20221106T070000
END:STANDARD
BEGIN:DAYLIGHT
TZOFFSETFROM:-0600
TZOFFSETTO:-0500
TZNAME:CDT
DTSTART:20230312T080000
END:DAYLIGHT
BEGIN:STANDARD
TZOFFSETFROM:-0500
TZOFFSETTO:-0600
TZNAME:CST
DTSTART:20231105T070000
END:STANDARD
END:VTIMEZONE
BEGIN:VEVENT
DTSTART;TZID=America/Chicago:20220205T100000
DTEND;TZID=America/Chicago:20220205T150000
DTSTAMP:20260422T154638
CREATED:20220112T203402Z
LAST-MODIFIED:20220131T224554Z
UID:10000449-1644055200-1644073200@www.cleanlakesalliance.org
SUMMARY:Frozen Assets Festival
DESCRIPTION:Frozen Assets Festival\n\n\n\nSaturday\, February 5th\, 10 a.m. – 3 p.m.Sunday\, February 6th\, 10 a.m. – 2 p.m.The Edgewater & Lake MendotaFREE\, open to the public \n\n\n\nAll Day Events: (Saturday 10 a.m. – 3 p.m.)\n\n\n\nPond Hockey with Phi Gamma Delta – Mu ChapterSnowshoeing\, courtesy of Rutabaga PaddlesportsSkydiving ice jump with Seven Hills SkydivingMary B. ice boat on displaySlap shot inflatable game\, courtesy of Madison Capitols Hockey TeamScience on Ice with the Saturday Science team at the Discovery BuildingLearn about animals that live in cold with WI Sea GrantLearn about freezing cold fluids with the Wonders of PhysicsExplore how UW Center for Limnology monitors our lakes in the winter monthsLearn about invisible particles called neutrinos with IceCube\n\n\n\nScheduled Activities (Saturday):\n\n\n\n8 – 9:30 a.m. Check in for Frozen Asset 5K Run/Walk10 a.m. Frozen Assets 5K Run/Walk begins10 a.m. – 2 p.m. Kites on Mendota with Wisconsin Kiter’s Club12:30 p.m. Speedskating demonstration with Madison Speedskating Club1 p.m. Figure skating demonstration with Figure Skating Club of Madison\n\n\n\nAll Day Events: (Sunday 10 a.m. – 2 p.m.)\n\n\n\nKites on Mendota with Wisconsin Kiter’s ClubFree ice skating on The Edgewater’s rink\n\n\n\nAbout the Festival\n\n\n\nJoin Clean Lakes Alliance at The Edgewater for the Frozen Assets Festival! We’ll have FREE\, family-friendly activities on frozen Lake Mendota! Thank you to our platinum hosting sponsor The Edgewater\, and our other sponsors for making this community event possible. \n\n\n\nThe Frozen Assets Festival will kick off with the 5K Run/Walk\, held entirely on the ice in front of The Edgewater. The rest of the day will include family-friendly activities on the ice and The Edgewater Plaza. Events will be determined based on current PHMDC guidelines.
URL:https://www.cleanlakesalliance.org/event/frozen-assets-festival-2022/2022-02-05/
LOCATION:The Edgewater Madison\, 1001 Wisconsin Place\, Madison\, Wisconsin\, 53703\, United States
CATEGORIES:Frozen Assets
ATTACH;FMTTYPE=image/jpeg:https://www.cleanlakesalliance.org/wp-content/uploads/2022/01/2022_FA-festival_header-new.jpg
END:VEVENT
END:VCALENDAR