BEGIN:VCALENDAR
VERSION:2.0
PRODID:-//Clean Lakes Alliance - ECPv6.15.20//NONSGML v1.0//EN
CALSCALE:GREGORIAN
METHOD:PUBLISH
X-WR-CALNAME:Clean Lakes Alliance
X-ORIGINAL-URL:https://www.cleanlakesalliance.org
X-WR-CALDESC:Events for Clean Lakes Alliance
REFRESH-INTERVAL;VALUE=DURATION:PT1H
X-Robots-Tag:noindex
X-PUBLISHED-TTL:PT1H
BEGIN:VTIMEZONE
TZID:America/Chicago
BEGIN:DAYLIGHT
TZOFFSETFROM:-0600
TZOFFSETTO:-0500
TZNAME:CDT
DTSTART:20220313T080000
END:DAYLIGHT
BEGIN:STANDARD
TZOFFSETFROM:-0500
TZOFFSETTO:-0600
TZNAME:CST
DTSTART:20221106T070000
END:STANDARD
BEGIN:DAYLIGHT
TZOFFSETFROM:-0600
TZOFFSETTO:-0500
TZNAME:CDT
DTSTART:20230312T080000
END:DAYLIGHT
BEGIN:STANDARD
TZOFFSETFROM:-0500
TZOFFSETTO:-0600
TZNAME:CST
DTSTART:20231105T070000
END:STANDARD
BEGIN:DAYLIGHT
TZOFFSETFROM:-0600
TZOFFSETTO:-0500
TZNAME:CDT
DTSTART:20240310T080000
END:DAYLIGHT
BEGIN:STANDARD
TZOFFSETFROM:-0500
TZOFFSETTO:-0600
TZNAME:CST
DTSTART:20241103T070000
END:STANDARD
END:VTIMEZONE
BEGIN:VEVENT
DTSTART;TZID=America/Chicago:20230913T080000
DTEND;TZID=America/Chicago:20230913T090000
DTSTAMP:20260424T210838
CREATED:20230222T151059Z
LAST-MODIFIED:20230731T140929Z
UID:10000477-1694592000-1694595600@www.cleanlakesalliance.org
SUMMARY:Clean Lakes 101: Healthy Lakes\, Healthy Climate
DESCRIPTION:Clean Lakes 101\n\n\n\nJoin us for this in-person or virtual hybrid edition of Clean Lakes 101 to hear about Dane County’s many projects to keep our lakes clean and mitigate the impacts of climate change. Register as an in-person attendee or to receive a Zoom link through your confirmation email and watch virtually. \n\n\n\n\n\n\n\n\n\n\n\nRegister by entering your information in the box below\n\n\n\n \n\n\n\n\n\n\n\nAbout this Talk\n\n\n\nHear from Dane County Executive Joe Parisi and Laura Hicklin\, Director of Dane County’s Land & Water Resources Department as they describe the County’s many projects to keep our lakes clean and mitigate the impacts of climate change. From more extreme weather with increased rain in the spring\, to dryer\, hotter summers and winters\, the risks of climate change become clearer all time. These changes are exacerbating existing threats to the Yahara lakes\, such as increased phosphorus runoff. \n\n\n\nDuring this presentation\, you’ll learn the latest information about specific projects that advance Renew the Blue such as Suck the Muck\, manure treatment\, and conservation cover programs\, along with updates on aquatic plant management\, lake levels\, Yahara River sediment removal\, and the ongoing efforts to combat climate change. \n\n\n\nAbout our Speakers\n\n\n\n\n\n\n\n\n\n\n\nDane County Executive: Joe Parisi has called Dane County home his entire life. He sought out public service as a way to give back to a community that has given so much to him. Joe was first elected as County Executive\, the chief elected leader of Dane County\, in 2011 after 6 years in the State Assembly and 8 years as Dane County Clerk. Joe’s priority is to ensure that everyone in our community has access to the opportunity to succeed. He believes investing in people pays big dividends. Joe knows this can work because he experienced it. Now Joe believes it is his turn to give back to ensure that our children’s generation has access to the same opportunities that were available to him. Joe and his wife\, Erin Thornley Parisi\, raised their two daughters on Madison’s east side. With a population of more than 500\,000 and an annual county budget of $600 million\, Dane is Wisconsin’s second largest county. Dane County has the highest private sector job and population growth in Wisconsin. \n\n\n\n\n\n\n\n\n\n\n\n\n\nLaura Hicklin: Laura Hicklin is the Director of the Dane County Land & Water Resources Department. The Land & Water Resources Department protects and enhances the natural\, cultural\, and historic resources of Dane County; provides the County’s residents with a broad array of accessible\, high quality resource-based recreational services and facilities; and supports residents\, communities\, local governments\, and other agencies and organizations in their resource management and protection activities. Laura’s goal is to bring civility to challenging discussions about natural resource management in Dane County. \n\n\n\n\n\nEvent Details\n\n\n\nThis event will be held at The Edgewater hotel – grand ballroom level 5 (1001 Wisconsin Pl\, Madison\, WI 53703). Doors open at 7:30 a.m. The program runs from 8 – 9 a.m. A Q/A session will follow the presentation as time allows. Complimentary event parking will be available at The Edgewater parking ramp. Parking spots fill up quickly and may be limited depending on hotel capacity. \n\n\n\nA Zoom link will be sent to all registrants in a confirmation email. \n\n\n\nClean Lakes 101 Lecture Series\n\n\n\nClean Lakes 101 is a series of educational events open to the public and a great chance to learn more about the science behind the issues that affect our lakes. Each month we feature a different expert to make the science accessible and interesting to non-technical audiences. The series is produced in partnership with the UW-Madison Nelson Institute for Environmental Studies and UW-Extension Lakes\, with presenting sponsor First Weber Foundation\, hosting sponsor The Edgewater\, supporting sponsors National Guardian Life Insurance Company and Alliant Energy\, and media sponsor WKOW.
URL:https://www.cleanlakesalliance.org/event/clean-lakes-101-sep-23/
LOCATION:The Edgewater Hotel\, 1001 Wisconsin Pl\, Madison\, WI\, 53703\, United States
CATEGORIES:Clean Lakes 101
ATTACH;FMTTYPE=image/jpeg:https://www.cleanlakesalliance.org/wp-content/uploads/2023/02/2023-09_CL101_header-web-scaled.jpg
GEO:43.0792762;-89.3902786
X-APPLE-STRUCTURED-LOCATION;VALUE=URI;X-ADDRESS=The Edgewater Hotel 1001 Wisconsin Pl Madison WI 53703 United States;X-APPLE-RADIUS=500;X-TITLE=1001 Wisconsin Pl:geo:-89.3902786,43.0792762
END:VEVENT
END:VCALENDAR